Workbook

Sheet Üldtabel 1-9 etapp
A1: Coop Jõgevamaa Liikumissari 2026 – Üldtabel pärast 9 etappi
A2: I Uisutamine | II Suusatamine | III Suundorienteerumine | IV Kuningamäe maastikujooks (24.05) | V Põltsamaa jalgratta maastikusõit (13.06) | VI Petank, Jõgeva (05.07) | VII Metsajooks Kuremaal (29.08) | VIII Mustvee linnajooks (23.09) | IX Kettagolf, Kuningamäe (10.10)
A4: Noored mehed kuni 19
A5: Koht | B5: Nimi | C5: I | D5: II | E5: III | F5: IV | G5: V | H5: VI | I5: VII | J5: VIII | K5: IX | L5: Etappe | M5: Kokku
A6: 1 | B6: Marten Mällas | C6: 90 | E6: 76 | F6: 82 | G6: 90 | I6: 90 | J6: 90 | K6: 76 | L6: =COUNTA(C6:K6) -> 7 | M6: =SUM(C6:K6) -> 594
A7: 2 | B7: Kait Sadam | D7: 51 | E7: 82 | F7: 76 | H7: 76 | I7: 82 | J7: 76 | K7: 72 | L7: =COUNTA(C7:K7) -> 7 | M7: =SUM(C7:K7) -> 515
A8: 3 | B8: Aleks Sadam | D8: 66 | H8: 82 | J8: 72 | L8: =COUNTA(C8:K8) -> 3 | M8: =SUM(C8:K8) -> 220
A9: 4 | B9: Bohdan Stepanov | F9: 100 | J9: 100 | L9: =COUNTA(C9:K9) -> 2 | M9: =SUM(C9:K9) -> 200
A10: 4 | B10: Kerret Koller | C10: 100 | H10: 100 | L10: =COUNTA(C10:K10) -> 2 | M10: =SUM(C10:K10) -> 200
A11: 6 | B11: Greg-Emil Pärn | D11: 82 | G11: 100 | L11: =COUNTA(C11:K11) -> 2 | M11: =SUM(C11:K11) -> 182
A12: 7 | B12: Rasmus Nikkel | G12: 82 | H12: 90 | L12: =COUNTA(C12:K12) -> 2 | M12: =SUM(C12:K12) -> 172
A13: 8 | B13: Martin Veskimäe | D13: 100 | L13: =COUNTA(C13:K13) -> 1 | M13: =SUM(C13:K13) -> 100
A14: 8 | B14: Märt Sibul | E14: 100 | L14: =COUNTA(C14:K14) -> 1 | M14: =SUM(C14:K14) -> 100
A15: 8 | B15: Otto-Oskar Palm | K15: 100 | L15: =COUNTA(C15:K15) -> 1 | M15: =SUM(C15:K15) -> 100
A16: 8 | B16: Ragnar Pärgmäe | I16: 100 | L16: =COUNTA(C16:K16) -> 1 | M16: =SUM(C16:K16) -> 100
A17: 12 | B17: Kirill Vaikšnoras | F17: 90 | L17: =COUNTA(C17:K17) -> 1 | M17: =SUM(C17:K17) -> 90
A18: 12 | B18: Lauri Piller | K18: 90 | L18: =COUNTA(C18:K18) -> 1 | M18: =SUM(C18:K18) -> 90
A19: 12 | B19: Ralf Erik Reiman | E19: 90 | L19: =COUNTA(C19:K19) -> 1 | M19: =SUM(C19:K19) -> 90
A20: 12 | B20: Rasmus-Alan Truus | D20: 90 | L20: =COUNTA(C20:K20) -> 1 | M20: =SUM(C20:K20) -> 90
A21: 16 | B21: Carlos Petrov | K21: 82 | L21: =COUNTA(C21:K21) -> 1 | M21: =SUM(C21:K21) -> 82
A22: 16 | B22: Indrek Utt | C22: 82 | L22: =COUNTA(C22:K22) -> 1 | M22: =SUM(C22:K22) -> 82
A23: 16 | B23: Tanil Rihma | J23: 82 | L23: =COUNTA(C23:K23) -> 1 | M23: =SUM(C23:K23) -> 82
A24: 19 | B24: Dominic William Johanson | C24: 76 | L24: =COUNTA(C24:K24) -> 1 | M24: =SUM(C24:K24) -> 76
A25: 19 | B25: Kaur Raudsepp | D25: 76 | L25: =COUNTA(C25:K25) -> 1 | M25: =SUM(C25:K25) -> 76
A26: 21 | B26: Krestan Hein | C26: 72 | L26: =COUNTA(C26:K26) -> 1 | M26: =SUM(C26:K26) -> 72
A27: 21 | B27: Rasmus Soomelt | D27: 72 | L27: =COUNTA(C27:K27) -> 1 | M27: =SUM(C27:K27) -> 72
A28: 23 | B28: Bryan Ott | C28: 69 | L28: =COUNTA(C28:K28) -> 1 | M28: =SUM(C28:K28) -> 69
A29: 23 | B29: Robert Hubel | D29: 69 | L29: =COUNTA(C29:K29) -> 1 | M29: =SUM(C29:K29) -> 69
A30: 25 | B30: Fredy Uusküla | C30: 66 | L30: =COUNTA(C30:K30) -> 1 | M30: =SUM(C30:K30) -> 66
A31: 26 | B31: Henri Raju Aardevälja | D31: 63 | L31: =COUNTA(C31:K31) -> 1 | M31: =SUM(C31:K31) -> 63
A32: 26 | B32: Kristian Koss | C32: 63 | L32: =COUNTA(C32:K32) -> 1 | M32: =SUM(C32:K32) -> 63
A33: 28 | B33: Kregor Sepri | D33: 61 | L33: =COUNTA(C33:K33) -> 1 | M33: =SUM(C33:K33) -> 61
A34: 29 | B34: Martin Hirv | D34: 59 | L34: =COUNTA(C34:K34) -> 1 | M34: =SUM(C34:K34) -> 59
A35: 30 | B35: Andris Neido | D35: 57 | L35: =COUNTA(C35:K35) -> 1 | M35: =SUM(C35:K35) -> 57
A36: 31 | B36: Kert Veskimäe | D36: 55 | L36: =COUNTA(C36:K36) -> 1 | M36: =SUM(C36:K36) -> 55
A37: 32 | B37: Assar Rosin | D37: 53 | L37: =COUNTA(C37:K37) -> 1 | M37: =SUM(C37:K37) -> 53
A39: Noored naised kuni 19
A40: Koht | B40: Nimi | C40: I | D40: II | E40: III | F40: IV | G40: V | H40: VI | I40: VII | J40: VIII | K40: IX | L40: Etappe | M40: Kokku
A41: 1 | B41: Kirke Koss | C41: 90 | D41: (63) | E41: 90 | F41: (69) | G41: 82 | H41: 90 | I41: 82 | J41: 100 | K41: 100 | L41: =COUNTA(C41:K41) -> 9 | M41: =SUM(C41:K41) -> 634
A42: 2 | B42: Kristin Koss | C42: 66 | D42: (51) | E42: 82 | G42: 72 | H42: 100 | I42: 72 | J42: 82 | K42: 90 | L42: =COUNTA(C42:K42) -> 8 | M42: =SUM(C42:K42) -> 564
A43: 3 | B43: Arabella Tammsaar | C43: 69 | D43: (57) | E43: 69 | F43: (66) | G43: 76 | H43: 82 | I43: 76 | J43: 90 | K43: 82 | L43: =COUNTA(C43:K43) -> 9 | M43: =SUM(C43:K43) -> 544
A44: 4 | B44: Lee Päivil | C44: 53 | D44: 69 | E44: 72 | F44: 72 | G44: 69 | H44: 76 | L44: =COUNTA(C44:K44) -> 6 | M44: =SUM(C44:K44) -> 411
A45: 5 | B45: Eneli Mens | D45: 100 | F45: 100 | G45: 100 | I45: 100 | L45: =COUNTA(C45:K45) -> 4 | M45: =SUM(C45:K45) -> 400
A46: 6 | B46: Kertu Põldmaa | C46: 100 | G46: 90 | H46: 72 | L46: =COUNTA(C46:K46) -> 3 | M46: =SUM(C46:K46) -> 262
A47: 7 | B47: Mirtel Saar | D47: 90 | F47: 90 | L47: =COUNTA(C47:K47) -> 2 | M47: =SUM(C47:K47) -> 180
A48: 8 | B48: Rosanna Maansoo | D48: 72 | F48: 76 | L48: =COUNTA(C48:K48) -> 2 | M48: =SUM(C48:K48) -> 148
A49: 9 | B49: Anneli Mens | F49: 63 | G49: 66 | L49: =COUNTA(C49:K49) -> 2 | M49: =SUM(C49:K49) -> 129
A50: 10 | B50: Grete Li Reiman | E50: 100 | L50: =COUNTA(C50:K50) -> 1 | M50: =SUM(C50:K50) -> 100
A51: 11 | B51: Lea Saaber | I51: 90 | L51: =COUNTA(C51:K51) -> 1 | M51: =SUM(C51:K51) -> 90
A52: 12 | B52: Grettel Juus | C52: 82 | L52: =COUNTA(C52:K52) -> 1 | M52: =SUM(C52:K52) -> 82
A53: 12 | B53: Hannagret Kundla | F53: 82 | L53: =COUNTA(C53:K53) -> 1 | M53: =SUM(C53:K53) -> 82
A54: 12 | B54: Marta Matson | D54: 82 | L54: =COUNTA(C54:K54) -> 1 | M54: =SUM(C54:K54) -> 82
A55: 15 | B55: Eliise Sepri | D55: 76 | L55: =COUNTA(C55:K55) -> 1 | M55: =SUM(C55:K55) -> 76
A56: 15 | B56: Heliise Kulp | C56: 76 | L56: =COUNTA(C56:K56) -> 1 | M56: =SUM(C56:K56) -> 76
A57: 15 | B57: Kirke Lehtla | E57: 76 | L57: =COUNTA(C57:K57) -> 1 | M57: =SUM(C57:K57) -> 76
A58: 15 | B58: Lilli Loviise Ange | J58: 76 | L58: =COUNTA(C58:K58) -> 1 | M58: =SUM(C58:K58) -> 76
A59: 19 | B59: Sandra Kaer | C59: 72 | L59: =COUNTA(C59:K59) -> 1 | M59: =SUM(C59:K59) -> 72
A60: 20 | B60: Sandra Allas | H60: 69 | L60: =COUNTA(C60:K60) -> 1 | M60: =SUM(C60:K60) -> 69
A61: 21 | B61: Anni Hirv | D61: 66 | L61: =COUNTA(C61:K61) -> 1 | M61: =SUM(C61:K61) -> 66
A62: 21 | B62: Lisette Kõo | E62: 66 | L62: =COUNTA(C62:K62) -> 1 | M62: =SUM(C62:K62) -> 66
A63: 23 | B63: Pippa-Liisa Johanson | C63: 63 | L63: =COUNTA(C63:K63) -> 1 | M63: =SUM(C63:K63) -> 63
A64: 23 | B64: Sofia Christelle Tarasov | E64: 63 | L64: =COUNTA(C64:K64) -> 1 | M64: =SUM(C64:K64) -> 63
A65: 25 | B65: Adeele Nõmmik | C65: 61 | L65: =COUNTA(C65:K65) -> 1 | M65: =SUM(C65:K65) -> 61
A66: 25 | B66: Hanna Aasma | D66: 61 | L66: =COUNTA(C66:K66) -> 1 | M66: =SUM(C66:K66) -> 61
A67: 27 | B67: Emmaleene Koor | C67: 59 | L67: =COUNTA(C67:K67) -> 1 | M67: =SUM(C67:K67) -> 59
A68: 27 | B68: Senni Aro | D68: 59 | L68: =COUNTA(C68:K68) -> 1 | M68: =SUM(C68:K68) -> 59
A69: 29 | B69: Liset Uusküla | C69: 57 | L69: =COUNTA(C69:K69) -> 1 | M69: =SUM(C69:K69) -> 57
A70: 30 | B70: Anete Hirv | D70: 55 | L70: =COUNTA(C70:K70) -> 1 | M70: =SUM(C70:K70) -> 55
A71: 30 | B71: Linel Uusküla | C71: 55 | L71: =COUNTA(C71:K71) -> 1 | M71: =SUM(C71:K71) -> 55
A72: 32 | B72: Johanna Kalamäe | D72: 53 | L72: =COUNTA(C72:K72) -> 1 | M72: =SUM(C72:K72) -> 53
A73: 33 | B73: Mia Rianna Kull | C73: 51 | L73: =COUNTA(C73:K73) -> 1 | M73: =SUM(C73:K73) -> 51
A74: 34 | B74: Liane Uusküla | C74: 49 | L74: =COUNTA(C74:K74) -> 1 | M74: =SUM(C74:K74) -> 49
A75: 35 | B75: Emily Elizabeth Kuldsaar | C75: 47 | L75: =COUNTA(C75:K75) -> 1 | M75: =SUM(C75:K75) -> 47
A76: 36 | B76: Kirsili Heinsalu | C76: 45 | L76: =COUNTA(C76:K76) -> 1 | M76: =SUM(C76:K76) -> 45
A77: 37 | B77: Triinu Rohtsalu | C77: 43 | L77: =COUNTA(C77:K77) -> 1 | M77: =SUM(C77:K77) -> 43
A78: 38 | B78: Mirell Punapart | C78: 41 | L78: =COUNTA(C78:K78) -> 1 | M78: =SUM(C78:K78) -> 41
A79: 39 | B79: Janeli Heinsalu | C79: 39 | L79: =COUNTA(C79:K79) -> 1 | M79: =SUM(C79:K79) -> 39
A80: 40 | B80: Mirtel Punapart | C80: 37 | L80: =COUNTA(C80:K80) -> 1 | M80: =SUM(C80:K80) -> 37
A81: 41 | B81: Demi Isabel Kuldsaar | C81: 35 | L81: =COUNTA(C81:K81) -> 1 | M81: =SUM(C81:K81) -> 35
A83: Mehed 20-40
A84: Koht | B84: Nimi | C84: I | D84: II | E84: III | F84: IV | G84: V | H84: VI | I84: VII | J84: VIII | K84: IX | L84: Etappe | M84: Kokku
A85: 1 | B85: Alar Sadam | D85: 82 | E85: 82 | F85: 90 | G85: 76 | H85: 100 | I85: 76 | J85: 76 | K85: (69) | L85: =COUNTA(C85:K85) -> 8 | M85: =SUM(C85:K85) -> 582
A86: 2 | B86: Georg Caius Kutsar | C86: 100 | D86: 76 | E86: 90 | F86: 100 | J86: 82 | L86: =COUNTA(C86:K86) -> 5 | M86: =SUM(C86:K86) -> 448
A87: 3 | B87: Mario Nõmmeots | H87: 82 | I87: 66 | J87: 66 | K87: 72 | L87: =COUNTA(C87:K87) -> 4 | M87: =SUM(C87:K87) -> 286
A88: 4 | B88: Jan Müür | I88: 90 | J88: 90 | L88: =COUNTA(C88:K88) -> 2 | M88: =SUM(C88:K88) -> 180
A89: 5 | B89: Randar Saar | D89: 72 | I89: 100 | L89: =COUNTA(C89:K89) -> 2 | M89: =SUM(C89:K89) -> 172
A90: 6 | B90: Taneli Eensalu | D90: 61 | K90: 82 | L90: =COUNTA(C90:K90) -> 2 | M90: =SUM(C90:K90) -> 143
A91: 7 | B91: Kristjan Laumets | I91: 72 | J91: 69 | L91: =COUNTA(C91:K91) -> 2 | M91: =SUM(C91:K91) -> 141
A92: 8 | B92: Klaus Mark Kolpakov | D92: 100 | L92: =COUNTA(C92:K92) -> 1 | M92: =SUM(C92:K92) -> 100
A93: 8 | B93: Marius Aave | J93: 100 | L93: =COUNTA(C93:K93) -> 1 | M93: =SUM(C93:K93) -> 100
A94: 8 | B94: Mart Markus | G94: 100 | L94: =COUNTA(C94:K94) -> 1 | M94: =SUM(C94:K94) -> 100
A95: 8 | B95: Martin Petrov | K95: 100 | L95: =COUNTA(C95:K95) -> 1 | M95: =SUM(C95:K95) -> 100
A96: 8 | B96: Rasmus Randoja | E96: 100 | L96: =COUNTA(C96:K96) -> 1 | M96: =SUM(C96:K96) -> 100
A97: 13 | B97: Argo Seljand | K97: 90 | L97: =COUNTA(C97:K97) -> 1 | M97: =SUM(C97:K97) -> 90
A98: 13 | B98: Egert Virkunen | D98: 90 | L98: =COUNTA(C98:K98) -> 1 | M98: =SUM(C98:K98) -> 90
A99: 13 | B99: Martin Ilves | G99: 90 | L99: =COUNTA(C99:K99) -> 1 | M99: =SUM(C99:K99) -> 90
A100: 13 | B100: Oskar Säärits | H100: 90 | L100: =COUNTA(C100:K100) -> 1 | M100: =SUM(C100:K100) -> 90
A101: 17 | B101: Evar Kütt | I101: 82 | L101: =COUNTA(C101:K101) -> 1 | M101: =SUM(C101:K101) -> 82
A102: 17 | B102: Rauno Lainemäe | G102: 82 | L102: =COUNTA(C102:K102) -> 1 | M102: =SUM(C102:K102) -> 82
A103: 17 | B103: Siim Tali | K103: 82 | L103: =COUNTA(C103:K103) -> 1 | M103: =SUM(C103:K103) -> 82
...

Sheet IX etapp - Protokoll
A1: Coop Jõgeva Liikumissari 2026 — IX etapp: kettagolf
A2: Kuningamäe suusa- ja terviserajad, 10.10.2026 · 18 korvi, par 55
A4: Noored mehed kuni 19
A5: Koht | B5: Nimi | C5: Klubi / perekond | D5: 1 | E5: 2 | F5: 3 | G5: 4 | H5: 5 | I5: 6 | J5: 7 | K5: 8 | L5: 9 | M5: 10 | N5: 11 | O5: 12 | P5: 13 | Q5: 14 | R5: 15 | S5: 16 | T5: 17 | U5: 18 | V5: Kokku | W5: +/- par | X5: Sarja punktid
A6: 1 | B6: Otto-Oskar Palm | D6: 2 | E6: 3 | F6: 2 | G6: 2 | H6: 3 | I6: 3 | J6: 3 | K6: 3 | L6: 3 | M6: 3 | N6: 2 | O6: 3 | P6: 3 | Q6: 3 | R6: 3 | S6: 3 | T6: 2 | U6: 3 | V6: =SUM(D6:U6) -> 49 | W6: =V6-55 -> -6 | X6: =IFERROR(VLOOKUP(A6,Punktitabel!$A$4:$B$43,2,FALSE()),"") -> 100
A7: 2 | B7: Lauri Piller | D7: 3 | E7: 3 | F7: 2 | G7: 4 | H7: 3 | I7: 3 | J7: 5 | K7: 3 | L7: 5 | M7: 3 | N7: 3 | O7: 4 | P7: 4 | Q7: 5 | R7: 3 | S7: 2 | T7: 3 | U7: 3 | V7: =SUM(D7:U7) -> 61 | W7: =V7-55 -> 6 | X7: =IFERROR(VLOOKUP(A7,Punktitabel!$A$4:$B$43,2,FALSE()),"") -> 90
A8: 3 | B8: Carlos Petrov | D8: 3 | E8: 5 | F8: 4 | G8: 5 | H8: 4 | I8: 3 | J8: 4 | K8: 4 | L8: 4 | M8: 6 | N8: 3 | O8: 3 | P8: 3 | Q8: 6 | R8: 3 | S8: 3 | T8: 4 | U8: 5 | V8: =SUM(D8:U8) -> 72 | W8: =V8-55 -> 17 | X8: =IFERROR(VLOOKUP(A8,Punktitabel!$A$4:$B$43,2,FALSE()),"") -> 82
A9: 4 | B9: Marten Mällas | C9: Põltsamaa | D9: 8 | E9: 5 | F9: 5 | G9: 5 | H9: 6 | I9: 5 | J9: 5 | K9: 5 | L9: 6 | M9: 7 | N9: 5 | O9: 5 | P9: 5 | Q9: 5 | R9: 4 | S9: 5 | T9: 7 | U9: 5 | V9: =SUM(D9:U9) -> 98 | W9: =V9-55 -> 43 | X9: =IFERROR(VLOOKUP(A9,Punktitabel!$A$4:$B$43,2,FALSE()),"") -> 76
A10: 5 | B10: Kait Sadam | C10: Perekond Sadam | D10: 8 | E10: 6 | F10: 5 | G10: 5 | H10: 8 | I10: 7 | J10: 8 | K10: 9 | L10: 8 | M10: 8 | N10: 5 | O10: 5 | P10: 9 | Q10: 8 | R10: 5 | S10: 7 | T10: 8 | U10: 6 | V10: =SUM(D10:U10) -> 125 | W10: =V10-55 -> 70 | X10: =IFERROR(VLOOKUP(A10,Punktitabel!$A$4:$B$43,2,FALSE()),"") -> 72
A12: Noored naised kuni 19
A13: Koht | B13: Nimi | C13: Klubi / perekond | D13: 1 | E13: 2 | F13: 3 | G13: 4 | H13: 5 | I13: 6 | J13: 7 | K13: 8 | L13: 9 | M13: 10 | N13: 11 | O13: 12 | P13: 13 | Q13: 14 | R13: 15 | S13: 16 | T13: 17 | U13: 18 | V13: Kokku | W13: +/- par | X13: Sarja punktid
A14: 1 | B14: Kirke Koss | C14: Perekond Koss | D14: 7 | E14: 7 | F14: 4 | G14: 3 | H14: 6 | I14: 4 | J14: 5 | K14: 6 | L14: 5 | M14: 7 | N14: 5 | O14: 5 | P14: 5 | Q14: 5 | R14: 4 | S14: 5 | T14: 5 | U14: 6 | V14: =SUM(D14:U14) -> 94 | W14: =V14-55 -> 39 | X14: =IFERROR(VLOOKUP(A14,Punktitabel!$A$4:$B$43,2,FALSE()),"") -> 100
A15: 2 | B15: Kristin Koss | C15: Perekond Koss | D15: 6 | E15: 7 | F15: 4 | G15: 5 | H15: 5 | I15: 6 | J15: 7 | K15: 5 | L15: 6 | M15: 7 | N15: 4 | O15: 6 | P15: 5 | Q15: 5 | R15: 4 | S15: 4 | T15: 4 | U15: 5 | V15: =SUM(D15:U15) -> 95 | W15: =V15-55 -> 40 | X15: =IFERROR(VLOOKUP(A15,Punktitabel!$A$4:$B$43,2,FALSE()),"") -> 90
A16: 3 | B16: Arabella Tammsaar | C16: Tammsaar & Barbo | D16: 6 | E16: 6 | F16: 8 | G16: 5 | H16: 6 | I16: 5 | J16: 7 | K16: 8 | L16: 5 | M16: 8 | N16: 5 | O16: 5 | P16: 5 | Q16: 6 | R16: 5 | S16: 7 | T16: 5 | U16: 9 | V16: =SUM(D16:U16) -> 111 | W16: =V16-55 -> 56 | X16: =IFERROR(VLOOKUP(A16,Punktitabel!$A$4:$B$43,2,FALSE()),"") -> 82
A18: Naised 20-40
A19: Koht | B19: Nimi | C19: Klubi / perekond | D19: 1 | E19: 2 | F19: 3 | G19: 4 | H19: 5 | I19: 6 | J19: 7 | K19: 8 | L19: 9 | M19: 10 | N19: 11 | O19: 12 | P19: 13 | Q19: 14 | R19: 15 | S19: 16 | T19: 17 | U19: 18 | V19: Kokku | W19: +/- par | X19: Sarja punktid
A20: 1 | B20: Kirly Sadam | C20: Perekond Sadam | D20: 4 | E20: 6 | F20: 3 | G20: 4 | H20: 3 | I20: 6 | J20: 6 | K20: 6 | L20: 7 | M20: 3 | N20: 3 | O20: 5 | P20: 5 | Q20: 7 | R20: 3 | S20: 4 | T20: 5 | U20: 5 | V20: =SUM(D20:U20) -> 85 | W20: =V20-55 -> 30 | X20: =IFERROR(VLOOKUP(A20,Punktitabel!$A$4:$B$43,2,FALSE()),"") -> 100
A21: 2 | B21: Birgit Barbo | C21: Tammsaar & Barbo | D21: 6 | E21: 7 | F21: 4 | G21: 4 | H21: 6 | I21: 4 | J21: 6 | K21: 6 | L21: 7 | M21: 8 | N21: 5 | O21: 5 | P21: 5 | Q21: 6 | R21: 4 | S21: 4 | T21: 5 | U21: 5 | V21: =SUM(D21:U21) -> 97 | W21: =V21-55 -> 42 | X21: =IFERROR(VLOOKUP(A21,Punktitabel!$A$4:$B$43,2,FALSE()),"") -> 90
A22: 3 | B22: Herle Koss | C22: Perekond Koss | D22: 3 | E22: 7 | F22: 5 | G22: 6 | H22: 7 | I22: 4 | J22: 7 | K22: 6 | L22: 5 | M22: 9 | N22: 5 | O22: 5 | P22: 7 | Q22: 7 | R22: 5 | S22: 5 | T22: 6 | U22: 7 | V22: =SUM(D22:U22) -> 106 | W22: =V22-55 -> 51 | X22: =IFERROR(VLOOKUP(A22,Punktitabel!$A$4:$B$43,2,FALSE()),"") -> 82
A23: 3 | B23: Sandra Alusalu | C23: Põltsamaa Põhikool | D23: 5 | E23: 6 | F23: 5 | G23: 5 | H23: 7 | I23: 4 | J23: 6 | K23: 6 | L23: 6 | M23: 8 | N23: 5 | O23: 5 | P23: 7 | Q23: 7 | R23: 5 | S23: 6 | T23: 7 | U23: 6 | V23: =SUM(D23:U23) -> 106 | W23: =V23-55 -> 51 | X23: =IFERROR(VLOOKUP(A23,Punktitabel!$A$4:$B$43,2,FALSE()),"") -> 82
A24: 5 | B24: Klara Daniel | D24: 10 | E24: 5 | F24: 5 | G24: 5 | H24: 7 | I24: 5 | J24: 5 | K24: 6 | L24: 5 | M24: 5 | N24: 6 | O24: 7 | P24: 6 | Q24: 6 | R24: 4 | S24: 6 | T24: 7 | U24: 7 | V24: =SUM(D24:U24) -> 107 | W24: =V24-55 -> 52 | X24: =IFERROR(VLOOKUP(A24,Punktitabel!$A$4:$B$43,2,FALSE()),"") -> 72
A26: Mehed 20-40
A27: Koht | B27: Nimi | C27: Klubi / perekond | D27: 1 | E27: 2 | F27: 3 | G27: 4 | H27: 5 | I27: 6 | J27: 7 | K27: 8 | L27: 9 | M27: 10 | N27: 11 | O27: 12 | P27: 13 | Q27: 14 | R27: 15 | S27: 16 | T27: 17 | U27: 18 | V27: Kokku | W27: +/- par | X27: Sarja punktid
A28: 1 | B28: Martin Petrov | D28: 3 | E28: 3 | F28: 3 | G28: 3 | H28: 2 | I28: 2 | J28: 2 | K28: 3 | L28: 4 | M28: 3 | N28: 2 | O28: 3 | P28: 3 | Q28: 4 | R28: 2 | S28: 3 | T28: 3 | U28: 3 | V28: =SUM(D28:U28) -> 51 | W28: =V28-55 -> -4 | X28: =IFERROR(VLOOKUP(A28,Punktitabel!$A$4:$B$43,2,FALSE()),"") -> 100
A29: 2 | B29: Argo Seljand | D29: 3 | E29: 4 | F29: 2 | G29: 3 | H29: 2 | I29: 3 | J29: 3 | K29: 4 | L29: 3 | M29: 3 | N29: 3 | O29: 3 | P29: 3 | Q29: 5 | R29: 3 | S29: 3 | T29: 3 | U29: 4 | V29: =SUM(D29:U29) -> 57 | W29: =V29-55 -> 2 | X29: =IFERROR(VLOOKUP(A29,Punktitabel!$A$4:$B$43,2,FALSE()),"") -> 90
A30: 3 | B30: Siim Tali | D30: 4 | E30: 4 | F30: 3 | G30: 3 | H30: 3 | I30: 3 | J30: 3 | K30: 5 | L30: 2 | M30: 4 | N30: 3 | O30: 3 | P30: 3 | Q30: 4 | R30: 3 | S30: 3 | T30: 3 | U30: 3 | V30: =SUM(D30:U30) -> 59 | W30: =V30-55 -> 4 | X30: =IFERROR(VLOOKUP(A30,Punktitabel!$A$4:$B$43,2,FALSE()),"") -> 82
A31: 3 | B31: Taneli Eensalu | D31: 4 | E31: 3 | F31: 3 | G31: 4 | H31: 2 | I31: 4 | J31: 2 | K31: 3 | L31: 5 | M31: 4 | N31: 3 | O31: 2 | P31: 4 | Q31: 4 | R31: 2 | S31: 3 | T31: 4 | U31: 3 | V31: =SUM(D31:U31) -> 59 | W31: =V31-55 -> 4 | X31: =IFERROR(VLOOKUP(A31,Punktitabel!$A$4:$B$43,2,FALSE()),"") -> 82
A32: 5 | B32: Mario Nõmmeots | D32: 5 | E32: 6 | F32: 4 | G32: 4 | H32: 5 | I32: 3 | J32: 4 | K32: 4 | L32: 6 | M32: 6 | N32: 4 | O32: 4 | P32: 4 | Q32: 4 | R32: 3 | S32: 4 | T32: 4 | U32: 6 | V32: =SUM(D32:U32) -> 80 | W32: =V32-55 -> 25 | X32: =IFERROR(VLOOKUP(A32,Punktitabel!$A$4:$B$43,2,FALSE()),"") -> 72
A33: 6 | B33: Alar Sadam | C33: Perekond Sadam | D33: 4 | E33: 5 | F33: 4 | G33: 4 | H33: 2 | I33: 6 | J33: 6 | K33: 6 | L33: 5 | M33: 4 | N33: 4 | O33: 5 | P33: 5 | Q33: 6 | R33: 4 | S33: 4 | T33: 4 | U33: 5 | V33: =SUM(D33:U33) -> 83 | W33: =V33-55 -> 28 | X33: =IFERROR(VLOOKUP(A33,Punktitabel!$A$4:$B$43,2,FALSE()),"") -> 69
A35: Naised 41-60
A36: Koht | B36: Nimi | C36: Klubi / perekond | D36: 1 | E36: 2 | F36: 3 | G36: 4 | H36: 5 | I36: 6 | J36: 7 | K36: 8 | L36: 9 | M36: 10 | N36: 11 | O36: 12 | P36: 13 | Q36: 14 | R36: 15 | S36: 16 | T36: 17 | U36: 18 | V36: Kokku | W36: +/- par | X36: Sarja punktid
A37: 1 | B37: Helle Villmann | D37: 7 | E37: 5 | F37: 4 | G37: 4 | H37: 5 | I37: 3 | J37: 4 | K37: 5 | L37: 4 | M37: 6 | N37: 4 | O37: 5 | P37: 4 | Q37: 4 | R37: 3 | S37: 4 | T37: 4 | U37: 4 | V37: =SUM(D37:U37) -> 79 | W37: =V37-55 -> 24 | X37: =IFERROR(VLOOKUP(A37,Punktitabel!$A$4:$B$43,2,FALSE()),"") -> 100
A38: 2 | B38: Maria Saar | D38: 6 | E38: 7 | F38: 7 | G38: 4 | H38: 6 | I38: 4 | J38: 8 | K38: 9 | L38: 6 | M38: 9 | N38: 7 | O38: 6 | P38: 9 | Q38: 8 | R38: 4 | S38: 6 | T38: 4 | U38: 8 | V38: =SUM(D38:U38) -> 118 | W38: =V38-55 -> 63 | X38: =IFERROR(VLOOKUP(A38,Punktitabel!$A$4:$B$43,2,FALSE()),"") -> 90
A39: 3 | B39: Virve Tõnne | D39: 7 | E39: 8 | F39: 5 | G39: 8 | H39: 6 | I39: 5 | J39: 7 | K39: 7 | L39: 6 | M39: 12 | N39: 7 | O39: 7 | P39: 6 | Q39: 7 | R39: 5 | S39: 6 | T39: 5 | U39: 6 | V39: =SUM(D39:U39) -> 120 | W39: =V39-55 -> 65 | X39: =IFERROR(VLOOKUP(A39,Punktitabel!$A$4:$B$43,2,FALSE()),"") -> 82
A41: Mehed 41-60
A42: Koht | B42: Nimi | C42: Klubi / perekond | D42: 1 | E42: 2 | F42: 3 | G42: 4 | H42: 5 | I42: 6 | J42: 7 | K42: 8 | L42: 9 | M42: 10 | N42: 11 | O42: 12 | P42: 13 | Q42: 14 | R42: 15 | S42: 16 | T42: 17 | U42: 18 | V42: Kokku | W42: +/- par | X42: Sarja punktid
A43: 1 | B43: Janel Palm | D43: 3 | E43: 3 | F43: 3 | G43: 3 | H43: 2 | I43: 2 | J43: 3 | K43: 3 | L43: 4 | M43: 3 | N43: 2 | O43: 3 | P43: 3 | Q43: 3 | R43: 3 | S43: 3 | T43: 4 | U43: 3 | V43: =SUM(D43:U43) -> 53 | W43: =V43-55 -> -2 | X43: =IFERROR(VLOOKUP(A43,Punktitabel!$A$4:$B$43,2,FALSE()),"") -> 100
A44: 2 | B44: Tarmo Virolainen | D44: 3 | E44: 4 | F44: 2 | G44: 3 | H44: 3 | I44: 3 | J44: 4 | K44: 3 | L44: 4 | M44: 4 | N44: 2 | O44: 2 | P44: 4 | Q44: 5 | R44: 3 | S44: 3 | T44: 3 | U44: 3 | V44: =SUM(D44:U44) -> 58 | W44: =V44-55 -> 3 | X44: =IFERROR(VLOOKUP(A44,Punktitabel!$A$4:$B$43,2,FALSE()),"") -> 90
A45: 3 | B45: Ivar Kõrgesaar | D45: 3 | E45: 3 | F45: 3 | G45: 3 | H45: 3 | I45: 3 | J45: 4 | K45: 4 | L45: 5 | M45: 4 | N45: 2 | O45: 3 | P45: 4 | Q45: 4 | R45: 2 | S45: 3 | T45: 3 | U45: 3 | V45: =SUM(D45:U45) -> 59 | W45: =V45-55 -> 4 | X45: =IFERROR(VLOOKUP(A45,Punktitabel!$A$4:$B$43,2,FALSE()),"") -> 82
A46: 3 | B46: Urmas Kangur | D46: 3 | E46: 5 | F46: 3 | G46: 3 | H46: 3 | I46: 4 | J46: 3 | K46: 3 | L46: 4 | M46: 4 | N46: 3 | O46: 4 | P46: 3 | Q46: 4 | R46: 2 | S46: 2 | T46: 3 | U46: 3 | V46: =SUM(D46:U46) -> 59 | W46: =V46-55 -> 4 | X46: =IFERROR(VLOOKUP(A46,Punktitabel!$A$4:$B$43,2,FALSE()),"") -> 82
A47: 5 | B47: Ando Veebel | D47: 6 | E47: 4 | F47: 4 | G47: 4 | H47: 5 | I47: 4 | J47: 5 | K47: 5 | L47: 4 | M47: 6 | N47: 4 | O47: 4 | P47: 4 | Q47: 4 | R47: 4 | S47: 4 | T47: 4 | U47: 4 | V47: =SUM(D47:U47) -> 79 | W47: =V47-55 -> 24 | X47: =IFERROR(VLOOKUP(A47,Punktitabel!$A$4:$B$43,2,FALSE()),"") -> 72
A48: 6 | B48: Marko Saar | C48: Põltsamaa | D48: 5 | E48: 5 | F48: 4 | G48: 5 | H48: 7 | I48: 3 | J48: 4 | K48: 5 | L48: 5 | M48: 6 | N48: 5 | O48: 5 | P48: 5 | Q48: 5 | R48: 4 | S48: 4 | T48: 3 | U48: 5 | V48: =SUM(D48:U48) -> 85 | W48: =V48-55 -> 30 | X48: =IFERROR(VLOOKUP(A48,Punktitabel!$A$4:$B$43,2,FALSE()),"") -> 69
A50: Naised 61+
A51: Koht | B51: Nimi | C51: Klubi / perekond | D51: 1 | E51: 2 | F51: 3 | G51: 4 | H51: 5 | I51: 6 | J51: 7 | K51: 8 | L51: 9 | M51: 10 | N51: 11 | O51: 12 | P51: 13 | Q51: 14 | R51: 15 | S51: 16 | T51: 17 | U51: 18 | V51: Kokku | W51: +/- par | X51: Sarja punktid
A52: 1 | B52: Helmi Pihelgas | D52: 5 | E52: 5 | F52: 4 | G52: 4 | H52: 5 | I52: 4 | J52: 4 | K52: 6 | L52: 4 | M52: 7 | N52: 4 | O52: 3 | P52: 4 | Q52: 5 | R52: 3 | S52: 5 | T52: 6 | U52: 5 | V52: =SUM(D52:U52) -> 83 | W52: =V52-55 -> 28 | X52: =IFERROR(VLOOKUP(A52,Punktitabel!$A$4:$B$43,2,FALSE()),"") -> 100
A53: 2 | B53: Riina Valdmets | D53: 6 | E53: 9 | F53: 5 | G53: 5 | H53: 7 | I53: 6 | J53: 8 | K53: 7 | L53: 6 | M53: 10 | N53: 7 | O53: 6 | P53: 8 | Q53: 8 | R53: 7 | S53: 5 | T53: 7 | U53: 9 | V53: =SUM(D53:U53) -> 126 | W53: =V53-55 -> 71 | X53: =IFERROR(VLOOKUP(A53,Punktitabel!$A$4:$B$43,2,FALSE()),"") -> 90
A55: Mehed 61+
A56: Koht | B56: Nimi | C56: Klubi / perekond | D56: 1 | E56: 2 | F56: 3 | G56: 4 | H56: 5 | I56: 6 | J56: 7 | K56: 8 | L56: 9 | M56: 10 | N56: 11 | O56: 12 | P56: 13 | Q56: 14 | R56: 15 | S56: 16 | T56: 17 | U56: 18 | V56: Kokku | W56: +/- par | X56: Sarja punktid
A57: 1 | B57: Uno Valdmets | D57: 4 | E57: 4 | F57: 4 | G57: 6 | H57: 5 | I57: 4 | J57: 4 | K57: 5 | L57: 5 | M57: 7 | N57: 4 | O57: 3 | P57: 5 | Q57: 4 | R57: 4 | S57: 6 | T57: 3 | U57: 4 | V57: =SUM(D57:U57) -> 81 | W57: =V57-55 -> 26 | X57: =IFERROR(VLOOKUP(A57,Punktitabel!$A$4:$B$43,2,FALSE()),"") -> 100
A59: Võrdse viskearvu korral jagatakse koht ja mõlemad saavad selle koha punktid (nagu VIII etapil).

Sheet Punktitabel
A1: Sarja punktid koha järgi
A2: Sarja üldjuhendi punktiarvestus: 1.–10. koht tabeli järgi, edasi −2 kuni 30. kohani, alates 31. kohast 17 p.
A3: Koht | B3: Punktid
A4: 1 | B4: 100
A5: 2 | B5: 90
A6: 3 | B6: 82
A7: 4 | B7: 76
A8: 5 | B8: 72
A9: 6 | B9: 69
A10: 7 | B10: 66
A11: 8 | B11: 63
A12: 9 | B12: 61
A13: 10 | B13: 59
A14: 11 | B14: 57
A15: 12 | B15: 55
... A43: 40 | B43: 17
